BEGIN:VCALENDAR
VERSION:2.0
PRODID:-//Contratero//ES
CALSCALE:GREGORIAN
METHOD:PUBLISH
BEGIN:VEVENT
UID:2025-3-28 (2020016452)@contratero.es
DTSTAMP:20260423T121313Z
DTSTART:20251203T235959
DTEND:20251204T005959
SUMMARY:Cierre: Servicio de mantenimiento del sistema de RIS de Me
DESCRIPTION:Servicio de mantenimiento del sistema de RIS de Medicina Nuclear de IRE RAYOS X para el servicio de Medicina Nuclear del Complejo Asistencial Universitario de Salamanca\\n\\nOrganismo: Gerencia de Atención Especializada de Salamanca\\n\\nVer en Contratero: https://contratero.es/contracts/2025-3-28 (2020016452)
URL:https://contratero.es/contracts/2025-3-28 (2020016452)
STATUS:CONFIRMED
BEGIN:VALARM
TRIGGER:-P1D
ACTION:DISPLAY
DESCRIPTION:Recordatorio: Servicio de mantenimiento del 
END:VALARM
END:VEVENT
END:VCALENDAR